BEGIN:VCALENDAR
VERSION:2.0
METHOD:PUBLISH
PRODID::-//Obvius//NONSGML ICal//DA
BEGIN:VEVENT
UID:5030497@teol.ku.dk
DESCRIPTION:Lecture by Tenure Track Assistant Professor Daniel Christian M
 aier\, University of Copenhagen.\n\nhttps://teol.ku.dk/english/research/de
 pt/abe/calendar/bible-reception-in-video-games/
SUMMARY:Bible Reception in Video Games: The Theological Relevance of an Ov
 erlooked Form of Exegesis
CATEGORIES:Forelæsning
LOCATION:South Campus\, room 4A-0-13
ORGANIZER:Biblical Studies Section
DTSTART:20260420T080000Z
DTSTAMP:20260420T080000Z
DTEND:20260420T090000Z
END:VEVENT
BEGIN:VEVENT
UID:4987800@teol.ku.dk
DESCRIPTION:A Reading of Christian Discourses and Late Discourses\nSessio
 n 11. Christian Discourses: Part Four I-II\n\nhttps://teol.ku.dk/skc/arran
 gementer/skc-seminar-autumn-april-20/
SUMMARY:SKC Seminar Spring 2026
CATEGORIES:Seminar
LOCATION:Zoom: https://ucph-ku.zoom.us/j/2188071867
ORGANIZER:Søren Kierkegaard Research Centre
DTSTART:20260420T120000Z
DTSTAMP:20260420T120000Z
DTEND:20260420T140000Z
END:VEVENT
BEGIN:VEVENT
UID:5022655@teol.ku.dk
DESCRIPTION:In this event\, we will listen to the band Amamere perform mus
 ic that was composed and created as part of the ‘Multiple Waterscapes in
  Urban Ghana’ project.\n\nhttps://teol.ku.dk/cas/Calendar/2026/music--ta
 lk/
SUMMARY:Music & Talk: Research Through Sound\, Water\, and Collaboration
CATEGORIES:Event
LOCATION:Room 6B.1.62 
DTSTART:20260422T140000Z
DTSTAMP:20260422T140000Z
DTEND:20260422T160000Z
END:VEVENT
BEGIN:VEVENT
UID:5005805@teol.ku.dk
DESCRIPTION:CEMES & CSGN Spring 2026 Lecture Series talk with Professor Pi
 eter Bevelander\, Malmö University.\n\nhttps://cemes.ku.dk/activities/lec
 ture-series/extreme-right-attitudes-in-sweden-germany-and-poland.-prelimin
 ary-results-from-a-cross-national-survey/
SUMMARY:CANCELLED: Extreme Right Attitudes in Sweden\, Germany and Poland:
  Preliminary results from a cross national survey
CATEGORIES:Oplæg
LOCATION:South Campus\, room 15A.2.13
ORGANIZER:Centre for Modern European Studies (CEMES) and Centre for the St
 udy of Global Nationalisms (CSGN)
DTSTART:20260423T130000Z
DTSTAMP:20260423T130000Z
DTEND:20260423T150000Z
END:VEVENT
BEGIN:VEVENT
UID:5030572@teol.ku.dk
DESCRIPTION:CEMES & CSGN Spring 2026 Lecture Series talk with Associate Pr
 ofessor Aron Buzogány\, BOKU University Vienna.\n\nhttps://cemes.ku.dk/ac
 tivities/lecture-series/illiberal-environmentalism-a-trans-european-histor
 y-of-ideas/
SUMMARY:Illiberal Environmentalism: A Trans-European History of Ideas
CATEGORIES:Oplæg
LOCATION:South Campus\, room 15A.2.13
ORGANIZER:Centre for Modern European Studies (CEMES) and Centre for the St
 udy of Global Nationalisms (CSGN)
DTSTART:20260423T130000Z
DTSTAMP:20260423T130000Z
DTEND:20260423T143000Z
END:VEVENT
BEGIN:VEVENT
UID:5014136@teol.ku.dk
DESCRIPTION:\n\nhttps://teol.ku.dk/cas/Calendar/2026/book-launch-and-docum
 entary-highlife-unbound-highlife-as-trilocal-and-transnational-music-cultu
 re-1950-1967/
SUMMARY:Book Launch: Highlife Unbound - Highlife as Trilocal and Transnati
 onal Music Culture 1950-1967
CATEGORIES:Event
LOCATION:LiteraturHaus: Møllegade 7\, 2200 Copenhagen
ORGANIZER:Centre of African Studies\, HUM:Global & IMMART
DTSTART:20260424T150000Z
DTSTAMP:20260424T150000Z
DTEND:20260424T160000Z
END:VEVENT
BEGIN:VEVENT
UID:5014049@teol.ku.dk
DESCRIPTION:\n\nhttps://teol.ku.dk/cas/Calendar/2026/concert-with-ghanaian
 -highlife-band-amamere/
SUMMARY:Concert with Ghanaian Highlife Band Amamere
CATEGORIES:Event
LOCATION:LiteraturHaus: Møllegade 7\, 2200 Copenhagen
ORGANIZER:Centre of African Studies\, HUM:Global & IMMART
DTSTART:20260424T180000Z
DTSTAMP:20260424T180000Z
DTEND:20260424T200000Z
END:VEVENT
BEGIN:VEVENT
UID:4987803@teol.ku.dk
DESCRIPTION:A Reading of Christian Discourses and Late Discourses\nSessio
 n 12. Christian Discourses: Part Four\, III-IV\n\nhttps://teol.ku.dk/skc/a
 rrangementer/skc-seminar-autumn-april-27/
SUMMARY:SKC Seminar Spring 2026
CATEGORIES:Seminar
LOCATION:Zoom: https://ucph-ku.zoom.us/j/2188071867
ORGANIZER:Søren Kierkegaard Research Centre
DTSTART:20260427T120000Z
DTSTAMP:20260427T120000Z
DTEND:20260427T140000Z
END:VEVENT
BEGIN:VEVENT
UID:5026369@teol.ku.dk
DESCRIPTION: This seminar celebrates Nils Holger’s rich and multifacete
 d scholarly contribution.\nIt features talks by some of his many collabor
 ators and Nils Holger’s own rendering of red threads running through his
  research.\nWe look forward to a joyous afternoon.\n\nhttps://teol.ku.dk/
 privacy/events/events-2026/resonance-engaging-liturgies-and-the-arts/
SUMMARY:Seminar in Celebration of Nils Holger Petersen&#8217\;s 80th Birth
 day
CATEGORIES:Seminar
LOCATION:Room: 4A.0.68\, University of Copenhagen\, Faculty of Theology\, 
 Karen Blixens Vej 16\, 2300 København S
ORGANIZER:Centre for Privacy Studies
DTSTART:20260427T120000Z
DTSTAMP:20260427T120000Z
END:VEVENT
BEGIN:VEVENT
UID:4987806@teol.ku.dk
DESCRIPTION:A Reading of Christian Discourses and Late Discourses\nSessio
 n 13. Christian Discourses: Part Four\, V-VII\n\nhttps://teol.ku.dk/skc/ar
 rangementer/skc-seminar-autumn-maj-4/
SUMMARY:SKC Seminar Spring 2026
CATEGORIES:Seminar
LOCATION:Zoom: https://ucph-ku.zoom.us/j/2188071867
ORGANIZER:Søren Kierkegaard Research Centre
DTSTART:20260504T120000Z
DTSTAMP:20260504T120000Z
DTEND:20260504T140000Z
END:VEVENT
BEGIN:VEVENT
UID:5024446@teol.ku.dk
DESCRIPTION:A significant portion of African Literature and expressive cul
 tures – from the late 19th century to the present – has been produced 
 as print\, audio\, video\, and (more recently) digital ephemera.\n\nhttps:
 //teol.ku.dk/cas/Calendar/2026/messy-data-ephemeral-literatures-and-the-fu
 ture-african-archive/
SUMMARY:Africa Seminar: Messy Data\, Ephemeral Literatures\, and the Futur
 e African Archive
CATEGORIES:Event
LOCATION:Room 8B.1.14\, Wangari Maathai Auditorium
ORGANIZER:Centre of African Studies
DTSTART:20260506T131500Z
DTSTAMP:20260506T131500Z
DTEND:20260506T150000Z
END:VEVENT
BEGIN:VEVENT
UID:5005814@teol.ku.dk
DESCRIPTION:CEMES & CSGN Spring 2026 Lecture Series talk with Senior Lect
 urer Hannah M. Strømmen\, Lund University.\n\nhttps://cemes.ku.dk/activit
 ies/lecture-series/far-and-not-so-far-right-uses-of-the-bible-in-contempor
 ary-politics/
SUMMARY:Far (and not so far) Right Uses of the Bible in Contemporary Polit
 ics
CATEGORIES:Oplæg
LOCATION:South Campus\, room 15A.0.13
ORGANIZER:Centre for Modern European Studies (CEMES) and Centre for the St
 udy of Global Nationalisms (CSGN)
DTSTART:20260511T110000Z
DTSTAMP:20260511T110000Z
DTEND:20260511T130000Z
END:VEVENT
BEGIN:VEVENT
UID:4987812@teol.ku.dk
DESCRIPTION:A Reading of Christian Discourses and Late Discourses\nSessio
 n 14. Lily and the Bird\, I\n\nhttps://teol.ku.dk/skc/arrangementer/skc-se
 minar-autumn-maj-11/
SUMMARY:SKC Seminar Spring 2026
CATEGORIES:Seminar
LOCATION:Zoom: https://ucph-ku.zoom.us/j/2188071867
ORGANIZER:Søren Kierkegaard Research Centre
DTSTART:20260511T120000Z
DTSTAMP:20260511T120000Z
DTEND:20260511T140000Z
END:VEVENT
BEGIN:VEVENT
UID:5030992@teol.ku.dk
DESCRIPTION:Miriam Have Watts forsvarer sin ph.d.-afhandling.\n\nhttps://t
 eol.ku.dk/arrangementer/arrangementer-2026/paa-vej-liv-og-vandring-i-kirke
 kunst-og-kulturkritik-1900-1950/
SUMMARY:På vej. Liv og vandring i kirkekunst og kulturkritik 1900-1950: E
 mmausberetningen og Vilhelm Grønbechs pilgrimsmyte
CATEGORIES:Ph.d.-forsvar
LOCATION:Søndre Campus\, lokale 9A-0-01 (Kierkegaard auditoriet)
ORGANIZER:Det Teologiske Fakultet
DTSTART:20260522T111500Z
DTSTAMP:20260522T111500Z
END:VEVENT
BEGIN:VEVENT
UID:5024041@teol.ku.dk
DESCRIPTION:Seminar i anledning af Carsten Pallesens 70-årsdag\n\nhttps:/
 /teol.ku.dk/arrangementer/arrangementer-2026/fra-nikaenum-til-grateful-dea
 d/
SUMMARY:Fra Nikænum til Grateful Dead
LOCATION:TBA
ORGANIZER:Afdeling for Systematisk Teologi
DTSTART:20260522T140000Z
DTSTAMP:20260522T140000Z
DTEND:20260522T160000Z
END:VEVENT
BEGIN:VEVENT
UID:4987815@teol.ku.dk
DESCRIPTION:A Reading of Christian Discourses and Late Discourses\nSessio
 n 15: Lily and the Bird\, II\n\nhttps://teol.ku.dk/skc/arrangementer/skc-s
 eminar-autumn-maj-18/
SUMMARY:SKC Seminar Spring 2026
CATEGORIES:Seminar
LOCATION:Zoom: https://ucph-ku.zoom.us/j/2188071867
ORGANIZER:Søren Kierkegaard Research Centre
DTSTART:20260525T120000Z
DTSTAMP:20260525T120000Z
DTEND:20260525T140000Z
END:VEVENT
BEGIN:VEVENT
UID:5002794@teol.ku.dk
DESCRIPTION:Arrangementet er udskudt på ubestemt tid.  \n\nhttps://teol
 .ku.dk/arrangementer/arrangementer-2026/tiltraedelsesforelaesning-ved-lekt
 or-elizabeth-x.-li/
SUMMARY:AFLYST: Tiltrædelsesforelæsning ved lektor Elizabeth X. Li
CATEGORIES:Forelæsning
LOCATION:Søndre Campus\, lokale 9A-0-01 (Kierkegaard Auditoriet)
ORGANIZER:Det Teologiske Fakultet
DTSTART:20260529T121500Z
DTSTAMP:20260529T121500Z
DTEND:20260528T220000Z
END:VEVENT
BEGIN:VEVENT
UID:5015366@teol.ku.dk
DESCRIPTION:CARNAL-konference om økologisk etik.\n\nhttps://teol.ku.dk/Fo
 rskning/afd/carnal/arrangementer/den-levede-oekologi/
SUMMARY:Den levede økologi 
CATEGORIES:Konference
LOCATION:Søndre Campus\, lokale 8B.0.16 (Grundtvig Auditoriet) 
ORGANIZER:Det Teologiske Fakultet og Cecilie Rubow
DTSTART:20260601T073000Z
DTSTAMP:20260601T073000Z
END:VEVENT
BEGIN:VEVENT
UID:4987818@teol.ku.dk
DESCRIPTION:A Reading of Christian Discourses and Late Discourses\nSessio
 n 16. Lily and the Bird\, III\n\nhttps://teol.ku.dk/skc/arrangementer/skc-
 seminar-autumn-jun-1/
SUMMARY:SKC Seminar Spring 2026
CATEGORIES:Seminar
LOCATION:Zoom: https://ucph-ku.zoom.us/j/2188071867
ORGANIZER:Søren Kierkegaard Research Centre
DTSTART:20260601T120000Z
DTSTAMP:20260601T120000Z
DTEND:20260601T140000Z
END:VEVENT
BEGIN:VEVENT
UID:5002377@teol.ku.dk
DESCRIPTION:Seminar i anledning af Niels Henrik Gregersens 70-års fødsel
 sdag.\n\nhttps://teol.ku.dk/arrangementer/arrangementer-2026/niels-henrik-
 gregersens-70-aars-foedselsdag/
SUMMARY:Samtidsteologi
CATEGORIES:Seminar
LOCATION:Søndre Campus\, lokale 8B.0.16 (Grundtvig Auditoriet)
ORGANIZER:Det Teologiske Fakultetet
DTSTART:20260602T131500Z
DTSTAMP:20260602T131500Z
DTEND:20260602T160000Z
END:VEVENT
BEGIN:VEVENT
UID:4987833@teol.ku.dk
DESCRIPTION:A Reading of Christian Discourses and Late Discourses\nSessio
 n 17. Three Discourses at the Communionon on Fridays\n\nhttps://teol.ku.dk
 /skc/arrangementer/skc-seminar-autumn-jun-8/
SUMMARY:SKC Seminar Spring 2026
CATEGORIES:Seminar
LOCATION:Zoom: https://ucph-ku.zoom.us/j/2188071867
ORGANIZER:Søren Kierkegaard Research Centre
DTSTART:20260608T120000Z
DTSTAMP:20260608T120000Z
DTEND:20260608T140000Z
END:VEVENT
BEGIN:VEVENT
UID:5009915@teol.ku.dk
DESCRIPTION:SKC Forskningsseminar: Et ansvar uden svar: Kierkegaard\, Der
 rida og hemmeligheden\n\nhttps://teol.ku.dk/skc/arrangementer/skc-forsknin
 gsseminar-10.-juni/
SUMMARY:SKC Forskningsseminar
CATEGORIES:Seminar
LOCATION:Det Teologiske Fakultet\, Karen Blixens Plads 16\, lokale: TBA
ORGANIZER:Søren Kierkegaard Research Centre
DTSTART:20260610T081500Z
DTSTAMP:20260610T081500Z
DTEND:20260610T133000Z
END:VEVENT
BEGIN:VEVENT
UID:4987836@teol.ku.dk
DESCRIPTION:A Reading of Christian Discourses and Late Discourses\nSessio
 n 18. An Upbuilding Discourse\n\nhttps://teol.ku.dk/skc/arrangementer/skc-
 seminar-autumn-jun-15/
SUMMARY:SKC Seminar Spring 2026
CATEGORIES:Seminar
LOCATION:Zoom: https://ucph-ku.zoom.us/j/2188071867
ORGANIZER:Søren Kierkegaard Research Centre
DTSTART:20260615T120000Z
DTSTAMP:20260615T120000Z
DTEND:20260615T140000Z
END:VEVENT
BEGIN:VEVENT
UID:5019310@teol.ku.dk
DESCRIPTION:\n\nhttps://teol.ku.dk/privacy/events/events-2026/seminar-the-
 alchemists-children/
SUMMARY:Seminar: THE ALCHEMIST&#8217\;S CHILDREN
CATEGORIES:Seminar
LOCATION: Room 6B.1.62\, Faculty of Theology\, University of Copenhagen.
ORGANIZER:Centre for Privacy Studies
DTSTART:20260619T080000Z
DTSTAMP:20260619T080000Z
DTEND:20260619T090000Z
END:VEVENT
BEGIN:VEVENT
UID:4987842@teol.ku.dk
DESCRIPTION:A Reading of Christian Discourses and Late Discourses\nSessio
 n 19. Two Discourses at the Communion on Fridays\n\nhttps://teol.ku.dk/skc
 /arrangementer/skc-seminar-autumn-jun-15/skc-seminar-autumn-jun-22/
SUMMARY:SKC Seminar Spring 2026
CATEGORIES:Seminar
LOCATION:Zoom: https://ucph-ku.zoom.us/j/2188071867
ORGANIZER:Søren Kierkegaard Research Centre
DTSTART:20260622T120000Z
DTSTAMP:20260622T120000Z
DTEND:20260622T140000Z
END:VEVENT
BEGIN:VEVENT
UID:5008902@teol.ku.dk
DESCRIPTION:Kierkegaard – and Kierkegaard: Totality and Plurality.\n\nh
 ttps://teol.ku.dk/skc/english/events/2026/skc-annual-conference-2026/
SUMMARY:SKC Annual Conference 2026
CATEGORIES:Konference
LOCATION:Room 9A.0.01 (Kierkegaard Auditoriet)
ORGANIZER:The Søren Kierkegaard Research Centre\, University of Copenhage
 n
DTSTART:20260811T220000Z
DTSTAMP:20260811T220000Z
DTEND:20260813T220000Z
END:VEVENT
BEGIN:VEVENT
UID:5017396@teol.ku.dk
DESCRIPTION:Annual Symposium at cross-faculty Centre for Science and Faith
 .\n\nhttps://teol.ku.dk/english/Calendar/2026/biology-psychology-and-spiri
 tuality/
SUMMARY:Biology\, Psychology and Spirituality
CATEGORIES:Symposium
LOCATION:South Campus\, Søren Kierkegaard Auditorium and online
ORGANIZER:Centre for Science and Faith
DTSTART:20260828T070000Z
DTSTAMP:20260828T070000Z
DTEND:20260828T140000Z
END:VEVENT
BEGIN:VEVENT
UID:4964871@teol.ku.dk
DESCRIPTION:\n\nhttps://teol.ku.dk/privacy/events/past-privacy-today-negot
 iating-boundaries--navigating-challenges/
SUMMARY:Past Privacy Today: Negotiating Boundaries &#8211\; Navigating Cha
 llenges
CATEGORIES:Konference
LOCATION:University of Copenhagen
ORGANIZER:University of Copenhagen
DTSTART:20260902T220000Z
DTSTAMP:20260902T220000Z
DTEND:20260903T220000Z
END:VEVENT
BEGIN:VEVENT
UID:4986604@teol.ku.dk
DESCRIPTION:Mere information følger.\n\nhttps://teol.ku.dk/arrangementer/
 arrangementer-2026/semesteraabningsforelaesning/
SUMMARY:Semesteråbningsforelæsning
ORGANIZER:Det Teologiske Fakultet
DTSTART:20260904T120000Z
DTSTAMP:20260904T120000Z
END:VEVENT
BEGIN:VEVENT
UID:4986595@teol.ku.dk
DESCRIPTION:Det Teologiske Fakultet fejrer det seneste års dimittender.\n
 \nhttps://teol.ku.dk/arrangementer/arrangementer-2026/dimissionsfest/
SUMMARY:Dimissionsfest 
CATEGORIES:Event
ORGANIZER:Det Teologiske Fakultet
DTSTART:20261030T130000Z
DTSTAMP:20261030T130000Z
DTEND:20261030T160000Z
END:VEVENT
END:VCALENDAR
