BEGIN:VCALENDAR
VERSION:2.0
METHOD:PUBLISH
PRODID::-//Obvius//NONSGML ICal//DA
BEGIN:VEVENT
UID:5026369@teol.ku.dk
DESCRIPTION: This seminar celebrates Nils Holger’s rich and multifacete
 d scholarly contribution.\nIt features talks by some of his many collabor
 ators and Nils Holger’s own rendering of red threads running through his
  research.\nWe look forward to a joyous afternoon.\n\nhttps://teol.ku.dk/
 privacy/events/events-2026/resonance-engaging-liturgies-and-the-arts/
SUMMARY:Seminar in Celebration of Nils Holger Petersen&#8217\;s 80th Birth
 day
CATEGORIES:Seminar
LOCATION:Room: 4A.0.68\, University of Copenhagen\, Faculty of Theology\, 
 Karen Blixens Vej 16\, 2300 København S
ORGANIZER:Centre for Privacy Studies
DTSTART:20260427T120000Z
DTSTAMP:20260427T120000Z
END:VEVENT
BEGIN:VEVENT
UID:5019310@teol.ku.dk
DESCRIPTION:\n\nhttps://teol.ku.dk/privacy/events/events-2026/seminar-the-
 alchemists-children/
SUMMARY:Seminar: THE ALCHEMIST&#8217\;S CHILDREN
CATEGORIES:Seminar
LOCATION: Room 6B.1.62\, Faculty of Theology\, University of Copenhagen.
ORGANIZER:Centre for Privacy Studies
DTSTART:20260619T080000Z
DTSTAMP:20260619T080000Z
DTEND:20260619T090000Z
END:VEVENT
BEGIN:VEVENT
UID:4964877@teol.ku.dk
DESCRIPTION:\n\nhttps://teol.ku.dk/privacy/events/events-2025/past-privacy
 -today-negotiating-boundaries--navigating-challenges/
SUMMARY:Past Privacy Today: Negotiating Boundaries &#8211\; Navigating Cha
 llenges
CATEGORIES:Konference
LOCATION:University of Copenhagen
ORGANIZER:University of Copenhagen
DTSTART:20260902T220000Z
DTSTAMP:20260902T220000Z
DTEND:20260903T220000Z
END:VEVENT
END:VCALENDAR
