BEGIN:VCALENDAR
VERSION:2.0
METHOD:PUBLISH
PRODID::-//Obvius//NONSGML ICal//DA
BEGIN:VEVENT
UID:2776918@teol.ku.dk
DESCRIPTION:Hvad kan Kierkegaard lære os om det almenmenneskelige? Søren
  Kierkegaard Forskningscenteret inviterer til åben forelæsning om Kierke
 gaards tanker om kærlighed\, angst og sorg og livets vanskelighed\n\nhttp
 s://teol.ku.dk/skc/arrangementer/2018/onsdag-med-kierkegaard-4.-foredrag/
SUMMARY:Onsdag med Kierkegaard
LOCATION:Det Teologiske Fakultet\, Karen Blixens Plads 16\, Lokale 6B-0-22
 
ORGANIZER:Søren Kierkegaard Forskningscenteret
DTSTART:20180516T121500Z
DTSTAMP:20180516T121500Z
DTEND:20180516T140000Z
END:VEVENT
END:VCALENDAR
