BEGIN:VCALENDAR
VERSION:2.0
METHOD:PUBLISH
PRODID::-//Obvius//NONSGML ICal//DA
BEGIN:VEVENT
UID:3265986@teol.ku.dk
DESCRIPTION:Åbent foredrag med Joakim Garff: En introduktion til den glob
 ale dansker og hans livssyn\n\nhttps://teol.ku.dk/skc/arrangementer/2019/o
 nsdag-med-kierkegaard_april/
SUMMARY:Onsdag med Kierkegaard
LOCATION:Det Teologiske Fakultet\, Karen Blixens Plads 16\, 2300 københav
 n S. Lokale 8B-1-14
ORGANIZER:Søren Kierkegaard Forskningscenteret
DTSTART:20190403T121500Z
DTSTAMP:20190403T121500Z
DTEND:20190403T140000Z
END:VEVENT
END:VCALENDAR
